BEGIN:VCALENDAR
VERSION:2.0
PRODID:-//Varejo Inteligente - ECPv4.9.2//NONSGML v1.0//EN
CALSCALE:GREGORIAN
METHOD:PUBLISH
X-WR-CALNAME:Varejo Inteligente
X-ORIGINAL-URL:https://varejointeligente.cdlbh.com.br
X-WR-CALDESC:Eventos para Varejo Inteligente
BEGIN:VEVENT
DTSTART;TZID=America/Sao_Paulo:20201105T190000
DTEND;TZID=America/Sao_Paulo:20201105T210000
DTSTAMP:20260422T122250
CREATED:20200902T211013Z
LAST-MODIFIED:20201030T172739Z
UID:1823-1604602800-1604610000@varejointeligente.cdlbh.com.br
SUMMARY:Trilha de Conteúdo – A inovação é mesmo necessária para o meu negócio?
DESCRIPTION:Nossa próximo conteúdo\, que acontecerá no dia 03/11 às 19h\, irá tratar do tema: “A inovação é mesmo necessária para meu negócio? com Renata Barcelos. \nNa correria do dia a dia sobra tempo para inovar? Inovação é mesmo necessária? \nRenata Barcelos vem discutir conosco como integrar a eficiência necessária para sobreviver com formas de inovar\, de modo a encontrarmos novas soluções possíveis e adequadas ao nosso negócio. \nConteudista: Renata Barcelos \nInscreva-se \nInscrição Minuto Associado \nRegulamento Minuto Associado \n
URL:https://varejointeligente.cdlbh.com.br/event/trilha-de-conteudo-a-inovacao-e-mesmo-necessaria-para-o-meu-negocio/
ATTACH;FMTTYPE=image/jpeg:https://varejointeligente.cdlbh.com.br/wp-content/uploads/2020/09/Cópia-de-Renata.jpeg
ORGANIZER;CN="CDL%2FBH":MAILTO:varejointeligente@cdlbh.com.br
END:VEVENT
END:VCALENDAR