BEGIN:VCALENDAR
VERSION:2.0
PRODID:-//Varejo Inteligente - ECPv4.9.2//NONSGML v1.0//EN
CALSCALE:GREGORIAN
METHOD:PUBLISH
X-WR-CALNAME:Varejo Inteligente
X-ORIGINAL-URL:https://varejointeligente.cdlbh.com.br
X-WR-CALDESC:Eventos para Varejo Inteligente
BEGIN:VEVENT
DTSTART;TZID=America/Sao_Paulo:20200917T190000
DTEND;TZID=America/Sao_Paulo:20200917T210000
DTSTAMP:20260422T084538
CREATED:20200902T203438Z
LAST-MODIFIED:20200911T142004Z
UID:1799-1600369200-1600376400@varejointeligente.cdlbh.com.br
SUMMARY:Trilha de Conteúdo – Alcance seus objetivos estratégicos e tenha grandes resultados
DESCRIPTION:Nossa próxima palestra\, que acontecerá no dia 17/09 às 19h\, irá tratar do tema: “Alcance seus objetivo estratégicos e tenha grandes resultados”\, com Carlos Silva. Será a oportunidade para falar dos principais pontos e características para iniciar sua aplicação de OKR em sua organização. Não perca! \nPalestrante: Carlos Silva \nInscreva-se \nInscrição Minuto Associado  \nRegulamento Minuto Associado  \n
URL:https://varejointeligente.cdlbh.com.br/event/trilha-de-conteudo-alcance-seus-objetivos-estrategicos-e-tenha-grandes-resultados/
ATTACH;FMTTYPE=image/jpeg:https://varejointeligente.cdlbh.com.br/wp-content/uploads/2020/09/CarlosSilva.jpeg
ORGANIZER;CN="CDL%2FBH":MAILTO:varejointeligente@cdlbh.com.br
END:VEVENT
END:VCALENDAR