BEGIN:VCALENDAR
VERSION:2.0
PRODID:-//Varejo Inteligente - ECPv4.9.2//NONSGML v1.0//EN
CALSCALE:GREGORIAN
METHOD:PUBLISH
X-WR-CALNAME:Varejo Inteligente
X-ORIGINAL-URL:https://varejointeligente.cdlbh.com.br
X-WR-CALDESC:Eventos para Varejo Inteligente
BEGIN:VEVENT
DTSTART;TZID=America/Sao_Paulo:20201119T190000
DTEND;TZID=America/Sao_Paulo:20201119T210000
DTSTAMP:20260422T140122
CREATED:20200902T211323Z
LAST-MODIFIED:20201113T182535Z
UID:1826-1605812400-1605819600@varejointeligente.cdlbh.com.br
SUMMARY:Trilha de Conteúdo – O propósito das empresas em um mundo em metamorfose
DESCRIPTION:Tanto se fala sobre propósito dentro das empresas e o quanto isso é cada vez mais decisivo na hora do consumidor escolher um produto ao invés do outro. No entanto\, muito mudou dentro das empresas em 2020 e vai continuar mudando neste mundo VUCA (volátil\, incerto\, complexo e ambíguo). \nSerá que esse tal de propósito mudou também? Onde será que ele se encaixa nesse novo contexto? Como ele pode gerar mais valor para a sua empresa e para as pessoas? \nQuando: 19/11/20\, quinta-feira\, de 19h às 21h \nPalestra: O propósito das empresas em um mundo em metamorfose \nConteudista: Fabi Soares – Empreendedora\, consultora\, publicitária e fundadora da F.Lab \nCase Especial Magalu com Marina Bueno: Pessoas\, propósito e clientes na prática! \n \n  \nInscreva-se \nInscrição Minuto Associado \nRegulamento Minuto Associado \n
URL:https://varejointeligente.cdlbh.com.br/event/trilha-de-conteudo-o-proposito-das-empresas-em-um-mundo-em-metamorfose/
ATTACH;FMTTYPE=image/jpeg:https://varejointeligente.cdlbh.com.br/wp-content/uploads/2020/09/Cópia-de-Fabi-Soares.jpeg
END:VEVENT
END:VCALENDAR